BEGIN:VCALENDAR
VERSION:2.0
PRODID:-//hacksw/handcal//NONSGML v1.0//EN
BEGIN:VEVENT
SUMMARY:1/4 DE FINALE OCCITANIE FEMININES
UID:d8c09524-5ef8-4f7f-8e7e-a9a283dc81d4
DTSTART:20260412T070000Z
DTEND:20260412T160000Z
LOCATION:Localisation   
CATEGORIES:Sportif
STATUS:
URL;VALUE=URI:https://www.boulehautlibron.fr/evenements/2026/04/12/14-de-finale-occitanie-feminines-2443211
END:VEVENT
END:VCALENDAR
